BEGIN:VCALENDAR
VERSION:2.0
PRODID:-//ChamberMaster//Event Calendar 2.0//EN
METHOD:PUBLISH
X-PUBLISHED-TTL:P1H
REFRESH-INTERVAL:P1H
CALSCALE:GREGORIAN
BEGIN:VTIMEZONE
TZID:America/Chicago
BEGIN:DAYLIGHT
RRULE:FREQ=YEARLY;BYMONTH=3;BYDAY=2SU
DTSTART:20070101T000000
TZOFFSETFROM:-0600
TZOFFSETTO:-0500
TZNAME:Central Daylight Time
END:DAYLIGHT
BEGIN:STANDARD
RRULE:FREQ=YEARLY;BYMONTH=11;BYDAY=1SU
DTSTART:20070101T000000
TZOFFSETFROM:-0500
TZOFFSETTO:-0600
TZNAME:Central Standard Time
END:STANDARD
END:VTIMEZONE
BEGIN:VEVENT
DTSTART;TZID=America/Chicago:20260616T120000
DTEND;TZID=America/Chicago:20260616T130000
X-MICROSOFT-CDO-ALLDAYEVENT:FALSE
SUMMARY:Arts in the Park
DESCRIPTION:Join us in Gazebo Park on Tuesdays in June. Bring a chair\, your lunch\, and enjoy different artists performing each week!
X-ALT-DESC;FMTTYPE=text/html:Join us in Gazebo Park on Tuesdays in June. Bring a chair\, your lunch\, and enjoy different artists performing each week!
LOCATION:106 S Main Street Blue Earth 56013
UID:e.4185.1418692
SEQUENCE:3
DTSTAMP:20260422T203412Z
URL:https://blueearthareachamberofcommerce.growthzoneapp.com/events/Details/arts-in-the-park-1676874?sourceTypeId=Hub
END:VEVENT
END:VCALENDAR
