BEGIN:VCALENDAR
VERSION:2.0
PRODID:-//ChamberMaster//Event Calendar 2.0//EN
METHOD:PUBLISH
X-PUBLISHED-TTL:P1H
REFRESH-INTERVAL:P1H
CALSCALE:GREGORIAN
BEGIN:VTIMEZONE
TZID:America/Chicago
BEGIN:DAYLIGHT
RRULE:FREQ=YEARLY;BYMONTH=3;BYDAY=2SU
DTSTART:20070101T000000
TZOFFSETFROM:-0600
TZOFFSETTO:-0500
TZNAME:Central Daylight Time
END:DAYLIGHT
BEGIN:STANDARD
RRULE:FREQ=YEARLY;BYMONTH=11;BYDAY=1SU
DTSTART:20070101T000000
TZOFFSETFROM:-0500
TZOFFSETTO:-0600
TZNAME:Central Standard Time
END:STANDARD
END:VTIMEZONE
BEGIN:VEVENT
DTSTART;TZID=America/Chicago:20260612T100000
DTEND;TZID=America/Chicago:20260612T160000
X-MICROSOFT-CDO-ALLDAYEVENT:FALSE
SUMMARY:Chamber Golf Fundraiser
DESCRIPTION:Mark your calendars and plan to join us for an awesome day of golf\, prizes\, laughter\, and sunshine!  Hole sponsorships available!
X-ALT-DESC;FMTTYPE=text/html:<!DOCTYPE html><html><head><title></title></head><body aria-disabled="false"><p>Mark your calendars and plan to join us for an awesome day of golf\, prizes\, laughter\, and sunshine! &nbsp\;Hole sponsorships available!</p></body></html>
LOCATION:36259 150th Street PO Box 68 Blue Earth MN 56013
UID:e.4185.1100940
SEQUENCE:3
DTSTAMP:20260422T203113Z
URL:https://blueearthareachamberofcommerce.growthzoneapp.com/events/Details/chamber-golf-fundraiser-1273227?sourceTypeId=Hub
END:VEVENT
END:VCALENDAR
