BEGIN:VCALENDAR
VERSION:2.0
PRODID:-//ChamberMaster//Event Calendar 2.0//EN
METHOD:PUBLISH
X-PUBLISHED-TTL:P1H
REFRESH-INTERVAL:P1H
CALSCALE:GREGORIAN
BEGIN:VTIMEZONE
TZID:America/Chicago
BEGIN:DAYLIGHT
RRULE:FREQ=YEARLY;BYMONTH=3;BYDAY=2SU
DTSTART:20070101T000000
TZOFFSETFROM:-0600
TZOFFSETTO:-0500
TZNAME:Central Daylight Time
END:DAYLIGHT
BEGIN:STANDARD
RRULE:FREQ=YEARLY;BYMONTH=11;BYDAY=1SU
DTSTART:20070101T000000
TZOFFSETFROM:-0500
TZOFFSETTO:-0600
TZNAME:Central Standard Time
END:STANDARD
END:VTIMEZONE
BEGIN:VEVENT
DTSTART;TZID=America/Chicago:20260618T170000
DTEND;TZID=America/Chicago:20260618T190000
X-MICROSOFT-CDO-ALLDAYEVENT:FALSE
SUMMARY:Chamber Hot Dog Night
DESCRIPTION:Who doesn’t want free hot dogs and free swimming?  Plan to attend a fun evening in Putnam Park on Thursday\, June 18th\, as chamber members offer various hot dog toppings!  Contact the Chamber as it gets closer for the event start time.
X-ALT-DESC;FMTTYPE=text/html:Who doesn’t want free hot dogs and free swimming?  Plan to attend a fun evening in Putnam Park on Thursday\, June 18th\, as chamber members offer various hot dog toppings!  Contact the Chamber as it gets closer for the event start time.
LOCATION:111 W 14th Street Blue Earth 56013
UID:e.4185.1418713
SEQUENCE:3
DTSTAMP:20260422T203556Z
URL:https://blueearthareachamberofcommerce.growthzoneapp.com/events/Details/chamber-hot-dog-night-1676892?sourceTypeId=Hub
END:VEVENT
END:VCALENDAR
