BEGIN:VCALENDAR
VERSION:2.0
PRODID:-//ChamberMaster//Event Calendar 2.0//EN
METHOD:PUBLISH
X-PUBLISHED-TTL:P1H
REFRESH-INTERVAL:P1H
CALSCALE:GREGORIAN
BEGIN:VTIMEZONE
TZID:America/Chicago
BEGIN:DAYLIGHT
RRULE:FREQ=YEARLY;BYMONTH=3;BYDAY=2SU
DTSTART:20070101T000000
TZOFFSETFROM:-0600
TZOFFSETTO:-0500
TZNAME:Central Daylight Time
END:DAYLIGHT
BEGIN:STANDARD
RRULE:FREQ=YEARLY;BYMONTH=11;BYDAY=1SU
DTSTART:20070101T000000
TZOFFSETFROM:-0500
TZOFFSETTO:-0600
TZNAME:Central Standard Time
END:STANDARD
END:VTIMEZONE
BEGIN:VEVENT
DTSTART;TZID=America/Chicago:20260709T170000
DTEND;TZID=America/Chicago:20260712T160000
X-MICROSOFT-CDO-ALLDAYEVENT:FALSE
SUMMARY:Giant Days
DESCRIPTION:Join us for the biggest and best party in town!  We have live entertainment\, fun for the kids\, and a variety of different food vendors.
X-ALT-DESC;FMTTYPE=text/html:<!DOCTYPE html><html><head><title></title></head><body aria-disabled="false"><p>Join us for the biggest and best party in town!&nbsp\; We have live entertainment\, fun for the kids\, and a variety of different food vendors.</p></body></html>
LOCATION:
UID:e.4185.1297987
SEQUENCE:3
DTSTAMP:20260422T203851Z
URL:https://blueearthareachamberofcommerce.growthzoneapp.com/events/Details/giant-days-1519363?sourceTypeId=Hub
END:VEVENT
END:VCALENDAR
