BEGIN:VCALENDAR
VERSION:2.0
PRODID:-//ChamberMaster//Event Calendar 2.0//EN
METHOD:PUBLISH
X-PUBLISHED-TTL:P1H
REFRESH-INTERVAL:P1H
CALSCALE:GREGORIAN
BEGIN:VTIMEZONE
TZID:America/Chicago
BEGIN:DAYLIGHT
RRULE:FREQ=YEARLY;BYMONTH=3;BYDAY=2SU
DTSTART:20070101T000000
TZOFFSETFROM:-0600
TZOFFSETTO:-0500
TZNAME:Central Daylight Time
END:DAYLIGHT
BEGIN:STANDARD
RRULE:FREQ=YEARLY;BYMONTH=11;BYDAY=1SU
DTSTART:20070101T000000
TZOFFSETFROM:-0500
TZOFFSETTO:-0600
TZNAME:Central Standard Time
END:STANDARD
END:VTIMEZONE
BEGIN:VEVENT
DTSTART;TZID=America/Chicago:20261113T150000
DTEND;TZID=America/Chicago:20261113T200000
X-MICROSOFT-CDO-ALLDAYEVENT:FALSE
SUMMARY:Holiday Sampler 2026
DESCRIPTION:Kick off the holidays with Blue Earth's Holiday Sampler Friday\, November 13th\, from 3 - 8 p.m. This family-friendly event showcases the newest in entertaining\, decorating\, and gift-giving ideas for the holiday season. Visit all participating businesses to get entered into the grand prize drawing and indulge in special treats along the way! You won't want to miss this enchanting evening to get you in the holiday spirit. Ride in a horse-drawn wagon\, pose for a family photo with reindeer\, hear the caroling voices\, and watch for Santa and Mrs. Claus who will be strolling through town. See you there!
X-ALT-DESC;FMTTYPE=text/html:<!DOCTYPE html><html><head><title></title></head><body aria-disabled="false"><p>Kick off the holidays with Blue Earth&rsquo\;s Holiday Sampler Friday\, November 13th\, from 3 - 8 p.m. This family-friendly event showcases the newest in entertaining\, decorating\, and gift-giving ideas for the holiday season. Visit all participating businesses to get entered into the grand prize drawing and indulge in special treats along the way! You won&rsquo\;t want to miss this enchanting evening to get you in the holiday spirit. Ride in a horse-drawn wagon\, pose for a family photo with reindeer\, hear the caroling voices\, and watch for Santa and Mrs. Claus who will be strolling through town. See you there!</p></body></html>
LOCATION:1134 Giant Drive PO Box 185 Blue Earth MN 56013
UID:e.4185.1351613
SEQUENCE:3
DTSTAMP:20260422T203113Z
URL:https://blueearthareachamberofcommerce.growthzoneapp.com/events/Details/holiday-sampler-2026-1589750?sourceTypeId=Hub
END:VEVENT
END:VCALENDAR
