BEGIN:VCALENDAR
VERSION:2.0
PRODID:-//ChamberMaster//Event Calendar 2.0//EN
METHOD:PUBLISH
X-PUBLISHED-TTL:P1H
REFRESH-INTERVAL:P1H
CALSCALE:GREGORIAN
BEGIN:VTIMEZONE
TZID:America/Chicago
BEGIN:DAYLIGHT
RRULE:FREQ=YEARLY;BYMONTH=3;BYDAY=2SU
DTSTART:20070101T000000
TZOFFSETFROM:-0600
TZOFFSETTO:-0500
TZNAME:Central Daylight Time
END:DAYLIGHT
BEGIN:STANDARD
RRULE:FREQ=YEARLY;BYMONTH=11;BYDAY=1SU
DTSTART:20070101T000000
TZOFFSETFROM:-0500
TZOFFSETTO:-0600
TZNAME:Central Standard Time
END:STANDARD
END:VTIMEZONE
BEGIN:VEVENT
DTSTART;TZID=America/Chicago:20260509T100000
DTEND;TZID=America/Chicago:20260509T150000
X-MICROSOFT-CDO-ALLDAYEVENT:FALSE
SUMMARY:Wine Walk
DESCRIPTION:Do the women in your life love a little wine and shopping?  Join us for Blue Earth's annual Wine Walk on Saturday\, May 9th\, from 10-3!  Sample wines\, enjoy tasty treats\, and shop in-store specials at participating businesses.
X-ALT-DESC;FMTTYPE=text/html:<!DOCTYPE html><html><head><title></title></head><body aria-disabled="false"><p><span style="font-size:12pt\;font-family:Arial\,sans-serif\;color:#000000\;background-color:transparent\;font-weight:400\;font-style:normal\;font-variant:normal\;text-decoration:none\;vertical-align:baseline\;white-space:pre\;white-space:pre-wrap\;">Do the women in your life love a little wine and shopping? &nbsp\;Join us for Blue Earth&rsquo\;s annual Wine Walk on Saturday\, May 9th\, from 10-3! &nbsp\;Sample wines\, enjoy tasty treats\, and shop in-store specials at participating businesses. &nbsp\;</span></p></body></html>
LOCATION:1134 Giant Drive PO Box 185 Blue Earth MN 56013
UID:e.4185.1100930
SEQUENCE:3
DTSTAMP:20260422T203852Z
URL:https://blueearthareachamberofcommerce.growthzoneapp.com/events/Details/wine-walk-1273217?sourceTypeId=Hub
END:VEVENT
END:VCALENDAR
