BEGIN:VCALENDAR
VERSION:2.0
PRODID:-//ChamberMaster//Event Calendar 2.0//EN
METHOD:PUBLISH
X-PUBLISHED-TTL:P1H
REFRESH-INTERVAL:P1H
CALSCALE:GREGORIAN
BEGIN:VTIMEZONE
TZID:America/Chicago
BEGIN:DAYLIGHT
RRULE:FREQ=YEARLY;BYMONTH=3;BYDAY=2SU
DTSTART:20070101T000000
TZOFFSETFROM:-0600
TZOFFSETTO:-0500
TZNAME:Central Daylight Time
END:DAYLIGHT
BEGIN:STANDARD
RRULE:FREQ=YEARLY;BYMONTH=11;BYDAY=1SU
DTSTART:20070101T000000
TZOFFSETFROM:-0500
TZOFFSETTO:-0600
TZNAME:Central Standard Time
END:STANDARD
END:VTIMEZONE
BEGIN:VEVENT
DTSTART;TZID=America/Chicago:20261128T100000
DTEND;TZID=America/Chicago:20261128T113000
X-MICROSOFT-CDO-ALLDAYEVENT:FALSE
SUMMARY:Scarfing of the Giant
DESCRIPTION:Just in from the North Pole\, Santa is coming to Blue Earth to scarf the Green Giant on Saturday\, November 28th! There will be crafts for the kids\, chocolate chip cookies\, and a chance to get photos with Santa! Start your shopping with our Blue Earth\, Giant\, and Sprout souvenirs at the Welcome Center!
X-ALT-DESC;FMTTYPE=text/html:<!DOCTYPE html><html><head><title></title></head><body aria-disabled="false"><p>Just in from the North Pole\, Santa is coming to Blue Earth to scarf the Green Giant on Saturday\, November 28th! There will be crafts for the kids\, chocolate chip cookies\, and a chance to get photos with Santa! Start your shopping with our Blue Earth\, Giant\, and Sprout souvenirs at the Welcome Center!</p></body></html>
LOCATION:1134 Giant Drive PO Box 185 Blue Earth MN 56013
UID:e.4185.1100952
SEQUENCE:3
DTSTAMP:20260422T203730Z
URL:https://blueearthareachamberofcommerce.growthzoneapp.com/events/Details/scarfing-of-the-giant-1273239?sourceTypeId=Hub
END:VEVENT
END:VCALENDAR
